BEGIN:VCALENDAR
VERSION:2.0
PRODID:-//SLO Botanical Garden - ECPv6.15.20//NONSGML v1.0//EN
CALSCALE:GREGORIAN
METHOD:PUBLISH
X-WR-CALNAME:SLO Botanical Garden
X-ORIGINAL-URL:https://slobg.org
X-WR-CALDESC:Events for SLO Botanical Garden
REFRESH-INTERVAL;VALUE=DURATION:PT1H
X-Robots-Tag:noindex
X-PUBLISHED-TTL:PT1H
BEGIN:VTIMEZONE
TZID:America/Los_Angeles
BEGIN:DAYLIGHT
TZOFFSETFROM:-0800
TZOFFSETTO:-0700
TZNAME:PDT
DTSTART:20240310T100000
END:DAYLIGHT
BEGIN:STANDARD
TZOFFSETFROM:-0700
TZOFFSETTO:-0800
TZNAME:PST
DTSTART:20241103T090000
END:STANDARD
BEGIN:DAYLIGHT
TZOFFSETFROM:-0800
TZOFFSETTO:-0700
TZNAME:PDT
DTSTART:20250309T100000
END:DAYLIGHT
BEGIN:STANDARD
TZOFFSETFROM:-0700
TZOFFSETTO:-0800
TZNAME:PST
DTSTART:20251102T090000
END:STANDARD
BEGIN:DAYLIGHT
TZOFFSETFROM:-0800
TZOFFSETTO:-0700
TZNAME:PDT
DTSTART:20260308T100000
END:DAYLIGHT
BEGIN:STANDARD
TZOFFSETFROM:-0700
TZOFFSETTO:-0800
TZNAME:PST
DTSTART:20261101T090000
END:STANDARD
END:VTIMEZONE
BEGIN:VEVENT
DTSTART;TZID=America/Los_Angeles:20251123T100000
DTEND;TZID=America/Los_Angeles:20251123T120000
DTSTAMP:20260422T175638
CREATED:20251023T190140Z
LAST-MODIFIED:20251027T195105Z
UID:229124-1763892000-1763899200@slobg.org
SUMMARY:Nature Sunday: Light and Color in Nature
DESCRIPTION:Join Jeff Reifel for a dive into the unexpected relationship of light and color in nature. Why are plants green? How do rainbow colors come about? What makes butterfly wings iridescent? Physical structure\, pigments\, and chemical reactions produce some interesting colors in the presence of light. See and hear how light is necessary and used in nature. \nFree registration applies to participation with Nature Sunday topic and covers garden admission for the day. \n\nJeff Reifel is a retired science teacher with a lot of experience in the chemistry of light\, prisms and color.
URL:https://slobg.org/event/nature-sunday-lightandcolorinnature/
ATTACH;FMTTYPE=image/jpeg:https://slobg.org/wp-content/uploads/2025/10/Colorful-Beetle-scaled.jpg
END:VEVENT
END:VCALENDAR