BEGIN:VCALENDAR
VERSION:2.0
PRODID:-//SLO Botanical Garden - ECPv6.15.20//NONSGML v1.0//EN
CALSCALE:GREGORIAN
METHOD:PUBLISH
X-ORIGINAL-URL:https://slobg.org
X-WR-CALDESC:Events for SLO Botanical Garden
REFRESH-INTERVAL;VALUE=DURATION:PT1H
X-Robots-Tag:noindex
X-PUBLISHED-TTL:PT1H
BEGIN:VTIMEZONE
TZID:America/Los_Angeles
BEGIN:DAYLIGHT
TZOFFSETFROM:-0800
TZOFFSETTO:-0700
TZNAME:PDT
DTSTART:20250309T100000
END:DAYLIGHT
BEGIN:STANDARD
TZOFFSETFROM:-0700
TZOFFSETTO:-0800
TZNAME:PST
DTSTART:20251102T090000
END:STANDARD
BEGIN:DAYLIGHT
TZOFFSETFROM:-0800
TZOFFSETTO:-0700
TZNAME:PDT
DTSTART:20260308T100000
END:DAYLIGHT
BEGIN:STANDARD
TZOFFSETFROM:-0700
TZOFFSETTO:-0800
TZNAME:PST
DTSTART:20261101T090000
END:STANDARD
BEGIN:DAYLIGHT
TZOFFSETFROM:-0800
TZOFFSETTO:-0700
TZNAME:PDT
DTSTART:20270314T100000
END:DAYLIGHT
BEGIN:STANDARD
TZOFFSETFROM:-0700
TZOFFSETTO:-0800
TZNAME:PST
DTSTART:20271107T090000
END:STANDARD
END:VTIMEZONE
BEGIN:VEVENT
DTSTART;TZID=America/Los_Angeles:20260315T100000
DTEND;TZID=America/Los_Angeles:20260315T140000
DTSTAMP:20260421T145743
CREATED:20260209T210213Z
LAST-MODIFIED:20260218T015157Z
UID:230428-1773568800-1773583200@slobg.org
SUMMARY:Free Family Day: Ladybug Release Day!
DESCRIPTION:Free Family Day: Ladybug Release Day – Hooray! \nCome and celebrate ladybugs and their importance to the Garden. Learn some fun facts that you’re unlikely to forget and help release native ladybugs. If there are some left over\, you may be able to purchase a bag to take home to your own garden. Everyone is welcome! Ladybug attire encouraged. \nWe’ll also have games and crafts and fun in the Children’s Garden. Food and ladybug goodies available for purchase.  \nPlease note: Activities in the Children’s Garden will be from 10am until 2pm. Admission to the Garden is free all day. The Gift Shop & restrooms close at 2pm. \nA BIG THANKS to some special people and organizations that help to make this special day free for the community including the Central Coast Funds for Children! \nPlease Note: El Chorro Regional Park has extended their fee season and increased their day use fee. The day use fee is now $5 on Fridays\, Saturdays\, Sundays and Holidays from March thru October. Please bring cash to expedite the entry process. To avoid the $5 fee\, you may want to consider grabbing a bite to eat at Marcerro Restaurant and walking over from there.
URL:https://slobg.org/event/free-family-day-all-about-ladybugs-2/
ATTACH;FMTTYPE=image/jpeg:https://slobg.org/wp-content/uploads/2026/02/LRD-e1770671170418.jpg
END:VEVENT
END:VCALENDAR