BEGIN:VCALENDAR
VERSION:2.0
PRODID:-//SLO Botanical Garden - ECPv6.15.20//NONSGML v1.0//EN
CALSCALE:GREGORIAN
METHOD:PUBLISH
X-WR-CALNAME:SLO Botanical Garden
X-ORIGINAL-URL:https://slobg.org
X-WR-CALDESC:Events for SLO Botanical Garden
REFRESH-INTERVAL;VALUE=DURATION:PT1H
X-Robots-Tag:noindex
X-PUBLISHED-TTL:PT1H
BEGIN:VTIMEZONE
TZID:America/Los_Angeles
BEGIN:DAYLIGHT
TZOFFSETFROM:-0800
TZOFFSETTO:-0700
TZNAME:PDT
DTSTART:20250309T100000
END:DAYLIGHT
BEGIN:STANDARD
TZOFFSETFROM:-0700
TZOFFSETTO:-0800
TZNAME:PST
DTSTART:20251102T090000
END:STANDARD
BEGIN:DAYLIGHT
TZOFFSETFROM:-0800
TZOFFSETTO:-0700
TZNAME:PDT
DTSTART:20260308T100000
END:DAYLIGHT
BEGIN:STANDARD
TZOFFSETFROM:-0700
TZOFFSETTO:-0800
TZNAME:PST
DTSTART:20261101T090000
END:STANDARD
BEGIN:DAYLIGHT
TZOFFSETFROM:-0800
TZOFFSETTO:-0700
TZNAME:PDT
DTSTART:20270314T100000
END:DAYLIGHT
BEGIN:STANDARD
TZOFFSETFROM:-0700
TZOFFSETTO:-0800
TZNAME:PST
DTSTART:20271107T090000
END:STANDARD
END:VTIMEZONE
BEGIN:VEVENT
DTSTART;TZID=America/Los_Angeles:20260319T174500
DTEND;TZID=America/Los_Angeles:20260319T190000
DTSTAMP:20260421T092716
CREATED:20260226T213526Z
LAST-MODIFIED:20260226T214732Z
UID:230627-1773942300-1773946800@slobg.org
SUMMARY:3.19.26 New Moon Sound Healing and Nature Meditation at the SLO Botanical Gardens
DESCRIPTION:Enjoy an evening of connection\, peace through sound vibrations\, mindfulness\, and nature. Immerse in harmonic tones from crystal alchemy bowls\, Koshi chimes\, and more. These frequencies can slow busy thoughts\, steady the breath\, and enhance presence\, leaving you grounded\, open-hearted\, and inspired. \nPlan on arriving a bit early if you’d like to independently explore SLOBG grounds. The Sound Healing experience will take place indoors at the Oak Glen Pavilion (across from SLOBG Gift Shop) Doors will open at 5:15 pm. Please bring a yoga mat and blanket as desired. A few extras will be available to borrow. The floor is hard so some participants choose to bring an extra thick mat or a camp pad for extra comfort. Jamie will begin by leading the group on a short mediative nature walk followed by an indoor sound experience. \nInstructor Bio: Jamie\, of Harmonic Holistics\, is a full-time sound healing practitioner\, specializing in trauma-informed stress reduction practices. With a passion for everything meditation-related\, she believes everyone can meditate in their own unique way when given guidance\, patience\, and reassurance. When she isn’t sharing wellness activities\, she is hiking\, cuddling with her dog\, or expressing herself through dance. \nSLOBG Members – Enter Member5 for $5 off registration fee.
URL:https://slobg.org/event/sound-healing-and-nature-meditation-at-the-slo-botanical-gardens-3/
ATTACH;FMTTYPE=image/jpeg:https://slobg.org/wp-content/uploads/2025/06/SoundHealing1.jpg
END:VEVENT
END:VCALENDAR