BEGIN:VCALENDAR
VERSION:2.0
PRODID:-//SLO Botanical Garden - ECPv6.15.20//NONSGML v1.0//EN
CALSCALE:GREGORIAN
METHOD:PUBLISH
X-WR-CALNAME:SLO Botanical Garden
X-ORIGINAL-URL:https://slobg.org
X-WR-CALDESC:Events for SLO Botanical Garden
REFRESH-INTERVAL;VALUE=DURATION:PT1H
X-Robots-Tag:noindex
X-PUBLISHED-TTL:PT1H
BEGIN:VTIMEZONE
TZID:America/Los_Angeles
BEGIN:DAYLIGHT
TZOFFSETFROM:-0800
TZOFFSETTO:-0700
TZNAME:PDT
DTSTART:20250309T100000
END:DAYLIGHT
BEGIN:STANDARD
TZOFFSETFROM:-0700
TZOFFSETTO:-0800
TZNAME:PST
DTSTART:20251102T090000
END:STANDARD
BEGIN:DAYLIGHT
TZOFFSETFROM:-0800
TZOFFSETTO:-0700
TZNAME:PDT
DTSTART:20260308T100000
END:DAYLIGHT
BEGIN:STANDARD
TZOFFSETFROM:-0700
TZOFFSETTO:-0800
TZNAME:PST
DTSTART:20261101T090000
END:STANDARD
BEGIN:DAYLIGHT
TZOFFSETFROM:-0800
TZOFFSETTO:-0700
TZNAME:PDT
DTSTART:20270314T100000
END:DAYLIGHT
BEGIN:STANDARD
TZOFFSETFROM:-0700
TZOFFSETTO:-0800
TZNAME:PST
DTSTART:20271107T090000
END:STANDARD
END:VTIMEZONE
BEGIN:VEVENT
DTSTART;TZID=America/Los_Angeles:20260324T100000
DTEND;TZID=America/Los_Angeles:20260324T140000
DTSTAMP:20260421T023506
CREATED:20251002T192154Z
LAST-MODIFIED:20260218T222944Z
UID:228911-1774346400-1774360800@slobg.org
SUMMARY:Ladies Lunch Club & Private Garden Tour- Sara Corliss (private event)
DESCRIPTION:Please join us for a potluck lunch\, followed by a private Garden tour with Executive Director Janine Stillman at the San Luis Obispo Botanical Garden.  If you can’t stay for the tour\, we hope you will still join us for lunch.11:30pm – Lunch / Oak Glen Pavilion1:00pm – Tour (about 45 minutes)If you plan to go on the tour\, please wear / bring walking shoes.Not a member of this group? Please email ed@slobg.org to schedule your own private tour.
URL:https://slobg.org/event/fall-ladies-lunch-club-private-garden-tour-sara-corliss/
LOCATION:San Luis Obispo Botanical Garden\, 3450 Dairy Creek Road\, San Luis Obispo\, CA\, 93405\, United States
ATTACH;FMTTYPE=image/jpeg:https://slobg.org/wp-content/uploads/2025/01/yellowheart.jpg
END:VEVENT
END:VCALENDAR