BEGIN:VCALENDAR
VERSION:2.0
PRODID:-//SLO Botanical Garden - ECPv6.15.20//NONSGML v1.0//EN
CALSCALE:GREGORIAN
METHOD:PUBLISH
X-WR-CALNAME:SLO Botanical Garden
X-ORIGINAL-URL:https://slobg.org
X-WR-CALDESC:Events for SLO Botanical Garden
REFRESH-INTERVAL;VALUE=DURATION:PT1H
X-Robots-Tag:noindex
X-PUBLISHED-TTL:PT1H
BEGIN:VTIMEZONE
TZID:America/Los_Angeles
BEGIN:DAYLIGHT
TZOFFSETFROM:-0800
TZOFFSETTO:-0700
TZNAME:PDT
DTSTART:20250309T100000
END:DAYLIGHT
BEGIN:STANDARD
TZOFFSETFROM:-0700
TZOFFSETTO:-0800
TZNAME:PST
DTSTART:20251102T090000
END:STANDARD
BEGIN:DAYLIGHT
TZOFFSETFROM:-0800
TZOFFSETTO:-0700
TZNAME:PDT
DTSTART:20260308T100000
END:DAYLIGHT
BEGIN:STANDARD
TZOFFSETFROM:-0700
TZOFFSETTO:-0800
TZNAME:PST
DTSTART:20261101T090000
END:STANDARD
BEGIN:DAYLIGHT
TZOFFSETFROM:-0800
TZOFFSETTO:-0700
TZNAME:PDT
DTSTART:20270314T100000
END:DAYLIGHT
BEGIN:STANDARD
TZOFFSETFROM:-0700
TZOFFSETTO:-0800
TZNAME:PST
DTSTART:20271107T090000
END:STANDARD
END:VTIMEZONE
BEGIN:VEVENT
DTSTART;TZID=America/Los_Angeles:20260430T103000
DTEND;TZID=America/Los_Angeles:20260618T120000
DTSTAMP:20260421T213543
CREATED:20260325T204819Z
LAST-MODIFIED:20260416T183519Z
UID:231106-1777545000-1781784000@slobg.org
SUMMARY:"Busy Bees" Caregiver Participation Volunteer Team
DESCRIPTION:Content is protected.
URL:https://slobg.org/event/busy-bee-parent-participation-volunteer-team/
END:VEVENT
BEGIN:VEVENT
DTSTART;TZID=America/Los_Angeles:20260525T100000
DTEND;TZID=America/Los_Angeles:20260525T130000
DTSTAMP:20260421T213543
CREATED:20260331T185745Z
LAST-MODIFIED:20260409T194150Z
UID:231139-1779703200-1779714000@slobg.org
SUMMARY:Painting Pollinators~Watercolor Workshop with Beth Ostapiuk
DESCRIPTION:Join Beth Ostapiuk at the SLO Botanical Garden for a 3 hour watercolor workshop on the step-by-step process of creating an 8×10 ready to mat/frame watercolor painting. This class is part of an ongoing series that will highlight local pollinators (birds\, bees\, butterflies) as the focal point. \nParticipants will learn basic watercolor techniques while they paint the beautiful “Rufous Hummingbird.” This class is designed for adults 18+ of all artistic abilities. No previous experience is required. \nAttendees are encouraged to bring their own materials (brushes\, paint\, water bin\, paint pallet) if you have them. A limited amount of materials will be available for use or purchase. \nAbout the Instructor Beth Ostapiuk:\nBeth is an award-winning California artist with Minnesota roots. She has experience with fiber arts\, ceramics\, and painting/creating Ukrainian eggs. Beth teaches watercolor and botanical illustration at Allan Hancock College and has taught younger children in public schools. She is a “Signature Member” of the Central Coast Watercolor Society and a returning Art Instructor at La Romita Art school in Italy as well as a member of the Morro Bay Art Association. She has received accolades as “Best of Show” at the Santa Barbara County Fair and other exhibits throughout the country. To learn more about Beth and her artwork\, please visit here. \nPlease Note: Rancho El Chorro Regional Park charges at $5 day use fee on Fridays-Sundays and Holidays.  \nClass enrollment includes SLOBG admission for the day so feel free to pack a picnic and enjoy a garden stroll before or after the class. \nSLOBG Members save $5. Enter discount code “Member5” at checkout.  \n \n 
URL:https://slobg.org/event/watercolor-workshop-with-beth-ostapiuk/
ATTACH;FMTTYPE=image/jpeg:https://slobg.org/wp-content/uploads/2026/03/BORufusWatercolor.jpg
END:VEVENT
END:VCALENDAR