BEGIN:VCALENDAR
VERSION:2.0
PRODID:-//SLO Botanical Garden - ECPv6.15.20//NONSGML v1.0//EN
CALSCALE:GREGORIAN
METHOD:PUBLISH
X-ORIGINAL-URL:https://slobg.org
X-WR-CALDESC:Events for SLO Botanical Garden
REFRESH-INTERVAL;VALUE=DURATION:PT1H
X-Robots-Tag:noindex
X-PUBLISHED-TTL:PT1H
BEGIN:VTIMEZONE
TZID:America/Los_Angeles
BEGIN:DAYLIGHT
TZOFFSETFROM:-0800
TZOFFSETTO:-0700
TZNAME:PDT
DTSTART:20240310T100000
END:DAYLIGHT
BEGIN:STANDARD
TZOFFSETFROM:-0700
TZOFFSETTO:-0800
TZNAME:PST
DTSTART:20241103T090000
END:STANDARD
BEGIN:DAYLIGHT
TZOFFSETFROM:-0800
TZOFFSETTO:-0700
TZNAME:PDT
DTSTART:20250309T100000
END:DAYLIGHT
BEGIN:STANDARD
TZOFFSETFROM:-0700
TZOFFSETTO:-0800
TZNAME:PST
DTSTART:20251102T090000
END:STANDARD
BEGIN:DAYLIGHT
TZOFFSETFROM:-0800
TZOFFSETTO:-0700
TZNAME:PDT
DTSTART:20260308T100000
END:DAYLIGHT
BEGIN:STANDARD
TZOFFSETFROM:-0700
TZOFFSETTO:-0800
TZNAME:PST
DTSTART:20261101T090000
END:STANDARD
END:VTIMEZONE
BEGIN:VEVENT
DTSTART;TZID=America/Los_Angeles:20251207T100000
DTEND;TZID=America/Los_Angeles:20251207T130000
DTSTAMP:20260422T152001
CREATED:20251022T171602Z
LAST-MODIFIED:20251206T180007Z
UID:229104-1765101600-1765112400@slobg.org
SUMMARY:Holiday Succulent Wreaths
DESCRIPTION:Celebrate the holidays with a beautiful hand-made succulent wreath to decorate your home for the holidays or to give as a gift! Led by artists\, Jayne Devencenzi and Kathy Stewart\, this hands-on workshop will teach you how to make a unique living wreath that can last for years. Succulent cuttings will be provided for everyone\, but if you have any succulents growing in your yard\, feel free to bring cuttings to share. Anyone aged 13 and up is welcome to participate! \nThis workshop will take place in the retail nursery. Please bring water\, dress in layers and wear sunblock. In the case of rain or extreme winds\, the workshop will be held the Oak Glen Pavillion. \nMembers enjoy $10 off. Please use the following code at check-out: Member10off \nNote: There is a $20 materials fee. Please bring cash to pay the instructor on the day of the class. Thanks!
URL:https://slobg.org/event/holiday-succulent-wreaths-sold-out/
ATTACH;FMTTYPE=image/jpeg:https://slobg.org/wp-content/uploads/2024/10/wreath.jpg
END:VEVENT
BEGIN:VEVENT
DTSTART;TZID=America/Los_Angeles:20251229T173000
DTEND;TZID=America/Los_Angeles:20251229T184500
DTSTAMP:20260422T152001
CREATED:20251117T185800Z
LAST-MODIFIED:20251229T194008Z
UID:229402-1767029400-1767033900@slobg.org
SUMMARY:Sound Healing and Nature Meditation at the SLO Botanical Gardens
DESCRIPTION:Enjoy an evening of connection\, peace through sound vibrations\, mindfulness\, and nature. Immerse in harmonic tones from crystal alchemy bowls\, Koshi chimes\, and more. These frequencies can slow busy thoughts\, steady the breath\, and enhance presence\, leaving you grounded\, open-hearted\, and inspired. \nInstructor Bio: Jamie\, of Harmonic Holistics\, is a full-time sound healing practitioner\, specializing in trauma-informed stress reduction practices. With a passion for everything meditation-related\, she believes everyone can meditate in their own unique way when given guidance\, patience\, and reassurance. When she isn’t sharing wellness activities\, she is hiking\, cuddling with her dog\, or expressing herself through dance. \nSLOBG Members – Enter Member5 for $5 off registration fee.
URL:https://slobg.org/event/new-moon-sound-healing-and-nature-meditation-at-the-slo-botanical-gardens-2/
ATTACH;FMTTYPE=image/jpeg:https://slobg.org/wp-content/uploads/2025/06/SoundHealing1.jpg
END:VEVENT
END:VCALENDAR